BEGIN:VCALENDAR
VERSION:2.0
PRODID:icalendar-ruby
CALSCALE:GREGORIAN
METHOD:PUBLISH
BEGIN:VEVENT
DTSTAMP:20260423T084853Z
UID:21-344743@stthomasanglican.org
DTSTART:20240519T143000Z
DTEND:20240519T153000Z
CLASS:PUBLIC
CREATED:20260422T214630
DESCRIPTION:**Effective Immediately (Jan. 27\, 2026) all services and speci
 al events have been temporarily suspended.**\nAdditionally we offer a more
  Contemporary service at 10:30am using the Book of Alternative Services (B
 AS).  This service features more contemporary music and worship as well a
 s traditional elements.  All are welcome to attend and participate in thi
 s service.\nTypically for Easter Season\, in June for Parish Picnic at Pin
 afore Park\, September for Back to Church Sunday &amp\; December for the C
 hristmas Season\, service times/days may differ - details will be posted c
 loser to the dates for these special services.
LAST-MODIFIED:20260422T214630
LOCATION:20 Flora St.\, St. Thomas
SUMMARY:10:30am Sunday Service - Temporarily Suspended
URL;VALUE=URI:https://www.stthomasanglican.org/events/10-30am-sunday-servic
 e-temporarily-suspended/2024-05-19
ATTACH;FILENAME=Church---Christmas-2024.jpg;FMTTYPE=image/jpeg:https://dq5p
 wpg1q8ru0.cloudfront.net/2024/12/31/16/27/53/8ed76eb7-38dd-4ef4-b2a1-56335
 d39d27a/Church---Christmas-2024.jpg
END:VEVENT
END:VCALENDAR
